BEGIN:VCALENDAR
VERSION:2.0
PRODID:-//Vänö - ECPv6.15.20//NONSGML v1.0//EN
CALSCALE:GREGORIAN
METHOD:PUBLISH
X-WR-CALNAME:Vänö
X-ORIGINAL-URL:https://vano.fi/fi
X-WR-CALDESC:Tapahtumat Vänö
REFRESH-INTERVAL;VALUE=DURATION:PT1H
X-Robots-Tag:noindex
X-PUBLISHED-TTL:PT1H
BEGIN:VTIMEZONE
TZID:Europe/Helsinki
BEGIN:DAYLIGHT
TZOFFSETFROM:+0200
TZOFFSETTO:+0300
TZNAME:EEST
DTSTART:20240331T010000
END:DAYLIGHT
BEGIN:STANDARD
TZOFFSETFROM:+0300
TZOFFSETTO:+0200
TZNAME:EET
DTSTART:20241027T010000
END:STANDARD
BEGIN:DAYLIGHT
TZOFFSETFROM:+0200
TZOFFSETTO:+0300
TZNAME:EEST
DTSTART:20250330T010000
END:DAYLIGHT
BEGIN:STANDARD
TZOFFSETFROM:+0300
TZOFFSETTO:+0200
TZNAME:EET
DTSTART:20251026T010000
END:STANDARD
BEGIN:DAYLIGHT
TZOFFSETFROM:+0200
TZOFFSETTO:+0300
TZNAME:EEST
DTSTART:20260329T010000
END:DAYLIGHT
BEGIN:STANDARD
TZOFFSETFROM:+0300
TZOFFSETTO:+0200
TZNAME:EET
DTSTART:20261025T010000
END:STANDARD
BEGIN:DAYLIGHT
TZOFFSETFROM:+0200
TZOFFSETTO:+0300
TZNAME:EEST
DTSTART:20270328T010000
END:DAYLIGHT
BEGIN:STANDARD
TZOFFSETFROM:+0300
TZOFFSETTO:+0200
TZNAME:EET
DTSTART:20271031T010000
END:STANDARD
END:VTIMEZONE
BEGIN:VTIMEZONE
TZID:UTC
BEGIN:STANDARD
TZOFFSETFROM:+0000
TZOFFSETTO:+0000
TZNAME:UTC
DTSTART:20230101T000000
END:STANDARD
END:VTIMEZONE
BEGIN:VEVENT
DTSTART;VALUE=DATE:20260202
DTEND;VALUE=DATE:20260331
DTSTAMP:20260421T121326
CREATED:20260202T193105Z
LAST-MODIFIED:20260202T193122Z
UID:409-1769990400-1774915199@vano.fi
SUMMARY:MEREN MUISTI – Vänön kesätaidenäyttelyn haku on auki!
DESCRIPTION:MEREN MUISTI – Vänön kesätaidenäyttelyn haku on auki!\nVänö Vänner kutsuu jälleen kaikki taiteen harrastajat ja tekijät\, joilla on kytkös Vänöseen\, mukaan yhteiseen kesätaidenäyttelyyn. Kuudetta kertaa järjestettävä näyttely kantaa tänä vuonna nimeä MEREN MUISTI.\nTämän vuoden näyttely käy vuoropuhelua Kulttuuritalon isoon saliin tulevan meriarkeologisen tieteisnäyttelyn kanssa\, joka avaa näkymiä Vänön lähialueiden vedenalaiseen maailmaan ja siellä tehtyihin löytöihin. Näyttely tuo esiin alueen historiaa kiinnostavasta näkökulmasta. Yhdessä nämä näyttelyt rakentavat monisyisen kokonaisuuden alueen historiasta ja meren muistista. Taidenäyttely rakentuu tänä vuonna kulttuuritalon kiviosaan. \nTeema jättää runsaasti tilaa taiteelliselle tulkinnalle ja taidenäyttelyn teokset saavat inspiroitua teemasta vapaasti. Tekniikat ovat vapaat\, ja myös ulkoilmateokset ovat lämpimästi tervetulleita. Haemme mukaan niin uusia tekijöitä kuin kokeneita konkareita ja harrastelijoita – tärkeintä on jonkinlainen kytkös Vänöseen. Myös runot\, performanssit\, musiikkiesitykset ja muut esitykselliset teokset ovat mahdollisia ja sydämellisesti tervetulleita esimerkiksi avajaispäivänä. \nHaku päättyy 30.3. Valinnoista ilmoitetaan huhtikuun loppuun mennessä. \nAvajaisia vietetään juhannuspäivänä 20.6. \nLähde mukaan luomaan Meren muistia. \nTäytä lomake täällä: https://forms.gle/kTwXYTP8qfZDCEFJA\nLisätietoja: antsalo.anna@gmail.com \n  \nKuvat: Pirjo Hoffström ja Maria Vuorenjuuri
URL:https://vano.fi/fi/event/meren-muisti-vanon-kesataidenayttelyn-haku-on-auki/
CATEGORIES:Taide
ATTACH;FMTTYPE=image/png:https://vano.fi/wp-content/uploads/2026/02/blue-gradient-travel-Presentation-169.png
END:VEVENT
BEGIN:VEVENT
DTSTART;TZID=Europe/Helsinki:20251212T120000
DTEND;TZID=Europe/Helsinki:20251212T230000
DTSTAMP:20260421T121326
CREATED:20251120T122730Z
LAST-MODIFIED:20251120T125332Z
UID:398-1765540800-1765580400@vano.fi
SUMMARY:Ljusdagen
DESCRIPTION:Valon ja pimeyden juhlaa Vänön kulttuuritalolla! \nSpelmän Ohoj! -pelimanniryhmä luo tunnelmaa musisoinnilla\, jouluisilla yhteislauluilla ja kaikenikäisille sopivilla piirileikeillä. Päivän mittaan on mahdollisuus heittäytyä myös askartelun ja tarinankerronnan pariin. Kulttuuritalolla on tarjolla ruokaa\, glögiä ja naposteltavaa. Illan päättää lyhtykulkue – ota oma lyhty mukaan! \nYhteysalus lähtee Kasnäsista klo 12 ja Vänöltä takaisin Kasnäsiin noin klo 22:15. \nKeittolounas\, iltapäiväkahvit ja illalla suolaista iltapalaa. Yht 10€ ennakkoilmoittautuminen (ilmoita myös ruokavaliot) 8.12. mennessä Vänö vänner ry:n puhelimeen +358453537278. Vain tekstiviestillä.
URL:https://vano.fi/fi/event/ljusdagen/
LOCATION:Vänön Kulttuuritalo\, V59W+GC\, Vänö\, Kemiönsaari\, Varsinais-Suomi\, Finland
CATEGORIES:Musiikki
ATTACH;FMTTYPE=image/jpeg:https://vano.fi/wp-content/uploads/2025/11/Vano-Vinter-Manu-Sund.jpg
ORGANIZER;CN="Spelm%C3%A4n ohoj ry":MAILTO:jimmy.traskelin@gmail.com
END:VEVENT
BEGIN:VEVENT
DTSTART;TZID=Europe/Helsinki:20250830T180000
DTEND;TZID=Europe/Helsinki:20250830T180000
DTSTAMP:20260421T121326
CREATED:20250626T152105Z
LAST-MODIFIED:20250626T152105Z
UID:351-1756576800-1756576800@vano.fi
SUMMARY:Muinaistulien yö
DESCRIPTION:Muinaistulien yö\, Yhteislauluilta Kulttuuritalolla. Tervetuloa!
URL:https://vano.fi/fi/event/muinaistulien-yo/
END:VEVENT
BEGIN:VEVENT
DTSTART;TZID=Europe/Helsinki:20250809T180000
DTEND;TZID=Europe/Helsinki:20250809T200000
DTSTAMP:20260421T121326
CREATED:20250626T151955Z
LAST-MODIFIED:20250626T151955Z
UID:349-1754762400-1754769600@vano.fi
SUMMARY:Tarinajuhla\, Saariston ääniä
DESCRIPTION:Saariston ääniä\, tarinajuhla klo 18 Kulttuuritalolla. Tervetuloa!
URL:https://vano.fi/fi/event/tarinajuhla-saariston-aania/
END:VEVENT
BEGIN:VEVENT
DTSTART;TZID=Europe/Helsinki:20250725T080000
DTEND;TZID=Europe/Helsinki:20250725T170000
DTSTAMP:20260421T121326
CREATED:20250626T151756Z
LAST-MODIFIED:20250626T151808Z
UID:346-1753430400-1753462800@vano.fi
SUMMARY:Jumalanpalvelus Vänön kappelissa
DESCRIPTION:Jumalanpalvelus kappelissa klo 14 ja yhteislaulua klo 16\, Strandhugget.
URL:https://vano.fi/fi/event/jumalanpalvelus-kappelissa/
END:VEVENT
BEGIN:VEVENT
DTSTART;TZID=Europe/Helsinki:20250719T120000
DTEND;TZID=Europe/Helsinki:20250719T170000
DTSTAMP:20260421T121326
CREATED:20250626T151452Z
LAST-MODIFIED:20250626T151452Z
UID:344-1752926400-1752944400@vano.fi
SUMMARY:Puuvenepäivä
DESCRIPTION:Puuvenepäivä piknikretki salaiseen kohteeseen klo 12.
URL:https://vano.fi/fi/event/puuvenepaiva/
END:VEVENT
BEGIN:VEVENT
DTSTART;TZID=Europe/Helsinki:20250717T180000
DTEND;TZID=Europe/Helsinki:20250717T200000
DTSTAMP:20260421T121326
CREATED:20250626T151124Z
LAST-MODIFIED:20250626T151124Z
UID:342-1752775200-1752782400@vano.fi
SUMMARY:Vänö Vännerin vuosikokous
DESCRIPTION:Vuosikokous Vänön kulttuuritalossa tai etänä Zoomin kautta klo 18.00. \nZoom linkin saa olemalla yhteydessä hallitukseen: vanovanner1992@gmail.com
URL:https://vano.fi/fi/event/vano-vannerin-vuosikokous/
END:VEVENT
BEGIN:VEVENT
DTSTART;VALUE=DATE:20250705
DTEND;VALUE=DATE:20250706
DTSTAMP:20260421T121326
CREATED:20250528T102851Z
LAST-MODIFIED:20250602T091218Z
UID:258-1751673600-1751759999@vano.fi
SUMMARY:Vänöpäivä
DESCRIPTION:Tervetuloa juhlimaan Vänöpäivää!  \nOta lautta Vänöön ja vietä iltapäivä täynnä musiikkia ja saariston idylliä. Spelmän Ohoj-leiri ja harmonikkataiteilija Maria Kalaniemi esiintyvät satamassa\, ja tänä vuonna Arne Alligator tarjoaa perheen nuorimmille konsertin Vänön kulttuuritalossa.  \nPäivän ohjelma \n11:00 m/s Jurmo lähtee Kasnäsista  \n12:00 Tervetuloa -soitto satamassa\, Spelmän Ohoj-leiri\nSeurustelua satamassa. Luvassa on käsitöitä\, kalakeittoa ja vohveleita.\nKonsertti: Harmonikkamestari Maria Kalaniemi  \n14:00 Arne Alligator & djungeltrumman kulttuuritalossa  \n15:30 Hyvää kotimatkaa -soitto satamassa\, Spelmän Ohoj-leiri\n16:00 m/s Jurmo paluulähtö Kasnäsiin  \n  \nIltaohjelma  \n20:00 Iltajuhla ja tanssia Kulttuuritalossa\, Spelmän Ohoj! 
URL:https://vano.fi/fi/event/vanodagen-vanopaiva/
ATTACH;FMTTYPE=image/png:https://vano.fi/wp-content/uploads/2025/05/Vanodagen2-scaled.png
END:VEVENT
BEGIN:VEVENT
DTSTART;TZID=Europe/Helsinki:20250703T080000
DTEND;TZID=Europe/Helsinki:20250706T170000
DTSTAMP:20260421T121326
CREATED:20250626T150613Z
LAST-MODIFIED:20250626T150613Z
UID:340-1751529600-1751821200@vano.fi
SUMMARY:Kansanmusiikkileiri Spelmän Ohoj!
DESCRIPTION:Kansanmusiikkileiri Spelmän Ohoj! Kolme päivää musiikin riemua\nVänön saarella. \nViime heinäkuussa järjestetty Vänön kesäleiri tulee taas 3.-6.7.! Tervetuloa viettämään kolme unohtumatonta päivää soiton ja laulun parissa Vänön saaren ainutlaatuisessa tunnelmassa. Opettajina leirillä ovat Maria Kalaniemi\, Veera Hirvaskero\, Leino Jylhänniemi ja Jimmy Träskelin. Leirin anti keskittyy saariston musiikkiin sekä muun muassa rallatteluperinteeseen. Tekemistä riittää kaikenlaisille soittajille soittimesta riippumatta – ilmoittaudu mukaan osoitteessa ohoj.fi!
URL:https://vano.fi/fi/event/kansanmusiikkileiri-spelman-ohoj/
END:VEVENT
BEGIN:VEVENT
DTSTART;TZID=Europe/Helsinki:20250629T190000
DTEND;TZID=Europe/Helsinki:20250629T210000
DTSTAMP:20260421T121326
CREATED:20250626T150118Z
LAST-MODIFIED:20250626T150118Z
UID:338-1751223600-1751230800@vano.fi
SUMMARY:Pelimanniturnee 2025
DESCRIPTION:Pelimanniturnee 2025\, konsertti satamassa klo 19.00. Tervetuloa!
URL:https://vano.fi/fi/event/pelimanniturnee-2025/
END:VEVENT
BEGIN:VEVENT
DTSTART;TZID=Europe/Helsinki:20250621T160000
DTEND;TZID=Europe/Helsinki:20250816T170000
DTSTAMP:20260421T121326
CREATED:20250626T145739Z
LAST-MODIFIED:20250626T145739Z
UID:336-1750521600-1755363600@vano.fi
SUMMARY:Taidenäyttely kulttuuritalossa
DESCRIPTION:Taidenäyttely Tekemisen ilosta. Vänön taideharrastajat. Vänön kulttuuritalossa. Tervetuloa!
URL:https://vano.fi/fi/event/taidenayttely-kulttuuritalossa/
END:VEVENT
BEGIN:VEVENT
DTSTART;TZID=Europe/Helsinki:20250621T160000
DTEND;TZID=Europe/Helsinki:20250621T200000
DTSTAMP:20260421T121326
CREATED:20250528T105536Z
LAST-MODIFIED:20250529T125758Z
UID:269-1750521600-1750536000@vano.fi
SUMMARY:Juhannuspäivä
DESCRIPTION:Taidenäyttelyn avajaiset klo 16.00 Kulttuuritalolla. Pop-up café\, vapaamuotoista ohjelmaa.\nTervetuloa!
URL:https://vano.fi/fi/event/midsommardagen/
END:VEVENT
BEGIN:VEVENT
DTSTART;TZID=Europe/Helsinki:20250613T170000
DTEND;TZID=Europe/Helsinki:20250613T210000
DTSTAMP:20260421T121326
CREATED:20250528T105110Z
LAST-MODIFIED:20250529T131431Z
UID:267-1749834000-1749848400@vano.fi
SUMMARY:Saariston ääniä
DESCRIPTION:Saariston ääniä tarinatyöpaja kulttuuritalolla\, ohjaaja Juulia Björn. Kahvitarjoilua.\nTervetuloa mukaan!
URL:https://vano.fi/fi/event/roster-fran-skargarden-saariston-aania/
LOCATION:Vänön Kulttuuritalo\, V59W+GC\, Vänö\, Kemiönsaari\, Varsinais-Suomi\, Finland
END:VEVENT
BEGIN:VEVENT
DTSTART;TZID=UTC:20241213T120000
DTEND;TZID=UTC:20241213T220000
DTSTAMP:20260421T121326
CREATED:20241204T094211Z
LAST-MODIFIED:20241204T094211Z
UID:155-1734091200-1734127200@vano.fi
SUMMARY:Vänö Ljusdagen
DESCRIPTION:Lucianpäivän tapahtuma Vänön kulttuuritalolla \nSpelmän Ohoj! -pelimanniryhmän musisointia\, jouluisia yhteislauluja ja piirileikkejä\, lyhtykulkue (ota oma lyhty tai muu valo mukaan!)\, ruokailu ja naposteltavaa\, vapaata oleskelua kulttuuritalolla\, ulkoilua ja mahdollisuus kassukätköilyyn. \nYhteysalus lähtee Kasnäsistä klo 12 ja Vänöltä takaisin Kasnäsiin noin klo 22:15. \nKeittolounas\, iltapäiväkahvit ja illalla grilli kuumana. Tarjolla hodaria\, saa tuoda myös omaa grillattavaa. Yht 15€ ennakkoilmoittautuminen (ilmoita myös ruokavaliot) 8.12. mennessä Vänö vänner ry:n puhelimeen +358453537278. Vain tekstiviestillä.
URL:https://vano.fi/fi/event/vano-ljusdagen/
LOCATION:Vänön Kulttuuritalo\, V59W+GC\, Vänö\, Kemiönsaari\, Varsinais-Suomi\, Finland
CATEGORIES:Musiikki
ATTACH;FMTTYPE=image/jpeg:https://vano.fi/wp-content/uploads/2024/12/Ljusdagen.jpg
ORGANIZER;CN="V%C3%A4n%C3%B6 V%C3%A4nner rf":MAILTO:vanovanner1992@gmail.com
END:VEVENT
END:VCALENDAR