BEGIN:VCALENDAR
VERSION:2.0
PRODID:-//Vänö - ECPv6.15.20//NONSGML v1.0//EN
CALSCALE:GREGORIAN
METHOD:PUBLISH
X-WR-CALNAME:Vänö
X-ORIGINAL-URL:http://vano.fi/fi
X-WR-CALDESC:Tapahtumat Vänö
REFRESH-INTERVAL;VALUE=DURATION:PT1H
X-Robots-Tag:noindex
X-PUBLISHED-TTL:PT1H
BEGIN:VTIMEZONE
TZID:UTC
BEGIN:STANDARD
TZOFFSETFROM:+0000
TZOFFSETTO:+0000
TZNAME:UTC
DTSTART:20230101T000000
END:STANDARD
END:VTIMEZONE
BEGIN:VEVENT
DTSTART;TZID=UTC:20241213T120000
DTEND;TZID=UTC:20241213T220000
DTSTAMP:20260422T000357
CREATED:20241204T094211Z
LAST-MODIFIED:20241204T094211Z
UID:155-1734091200-1734127200@vano.fi
SUMMARY:Vänö Ljusdagen
DESCRIPTION:Lucianpäivän tapahtuma Vänön kulttuuritalolla \nSpelmän Ohoj! -pelimanniryhmän musisointia\, jouluisia yhteislauluja ja piirileikkejä\, lyhtykulkue (ota oma lyhty tai muu valo mukaan!)\, ruokailu ja naposteltavaa\, vapaata oleskelua kulttuuritalolla\, ulkoilua ja mahdollisuus kassukätköilyyn. \nYhteysalus lähtee Kasnäsistä klo 12 ja Vänöltä takaisin Kasnäsiin noin klo 22:15. \nKeittolounas\, iltapäiväkahvit ja illalla grilli kuumana. Tarjolla hodaria\, saa tuoda myös omaa grillattavaa. Yht 15€ ennakkoilmoittautuminen (ilmoita myös ruokavaliot) 8.12. mennessä Vänö vänner ry:n puhelimeen +358453537278. Vain tekstiviestillä.
URL:http://vano.fi/fi/event/vano-ljusdagen/
LOCATION:Vänön Kulttuuritalo\, V59W+GC\, Vänö\, Kemiönsaari\, Varsinais-Suomi\, Finland
CATEGORIES:Musiikki
ATTACH;FMTTYPE=image/jpeg:https://vano.fi/wp-content/uploads/2024/12/Ljusdagen.jpg
ORGANIZER;CN="V%C3%A4n%C3%B6 V%C3%A4nner rf":MAILTO:vanovanner1992@gmail.com
END:VEVENT
END:VCALENDAR